BEGIN:VCALENDAR
VERSION:2.0
PRODID:-//Noticias y análisis del sector congresos - ECPv6.15.20//NONSGML v1.0//EN
CALSCALE:GREGORIAN
METHOD:PUBLISH
X-ORIGINAL-URL:https://revistacongresos.com
X-WR-CALDESC:Eventos para Noticias y análisis del sector congresos
REFRESH-INTERVAL;VALUE=DURATION:PT1H
X-Robots-Tag:noindex
X-PUBLISHED-TTL:PT1H
BEGIN:VTIMEZONE
TZID:Europe/Helsinki
BEGIN:DAYLIGHT
TZOFFSETFROM:+0200
TZOFFSETTO:+0300
TZNAME:EEST
DTSTART:20250330T010000
END:DAYLIGHT
BEGIN:STANDARD
TZOFFSETFROM:+0300
TZOFFSETTO:+0200
TZNAME:EET
DTSTART:20251026T010000
END:STANDARD
BEGIN:DAYLIGHT
TZOFFSETFROM:+0200
TZOFFSETTO:+0300
TZNAME:EEST
DTSTART:20260329T010000
END:DAYLIGHT
BEGIN:STANDARD
TZOFFSETFROM:+0300
TZOFFSETTO:+0200
TZNAME:EET
DTSTART:20261025T010000
END:STANDARD
BEGIN:DAYLIGHT
TZOFFSETFROM:+0200
TZOFFSETTO:+0300
TZNAME:EEST
DTSTART:20270328T010000
END:DAYLIGHT
BEGIN:STANDARD
TZOFFSETFROM:+0300
TZOFFSETTO:+0200
TZNAME:EET
DTSTART:20271031T010000
END:STANDARD
END:VTIMEZONE
BEGIN:VEVENT
DTSTART;VALUE=DATE:20261028
DTEND;VALUE=DATE:20261031
DTSTAMP:20260422T081608
CREATED:20251217T154443Z
LAST-MODIFIED:20251217T154443Z
UID:25969236-1793145600-1793404799@revistacongresos.com
SUMMARY:XIII Congreso de la Asociación Española de Climatología (AEC)
DESCRIPTION:
URL:https://revistacongresos.com/event/xiii-congreso-de-la-asociacion-espanola-de-climatologia-aec/
LOCATION:Universidad de La Laguna. San Cristóbal de La Laguna. Tenerife (Canarias).
CATEGORIES:Presencial,Trienal
END:VEVENT
BEGIN:VEVENT
DTSTART;VALUE=DATE:20261028
DTEND;VALUE=DATE:20261031
DTSTAMP:20260422T081608
CREATED:20251230T212617Z
LAST-MODIFIED:20251230T212617Z
UID:25969796-1793145600-1793404799@revistacongresos.com
SUMMARY:XIV Congreso de la AEC – Cambio climático\, riesgos y territorio: Avances y respuestas científicas
DESCRIPTION:
URL:https://revistacongresos.com/event/xiv-congreso-de-la-aec-cambio-climatico-riesgos-y-territorio-avances-y-respuestas-cientificas/
LOCATION:Universidad de La Laguna. San Cristóbal de La Laguna. Tenerife (Canarias).
CATEGORIES:Presencial,Trienal
END:VEVENT
END:VCALENDAR