BEGIN:VCALENDAR
VERSION:2.0
PRODID:-//Noticias y análisis del sector congresos - ECPv6.15.20//NONSGML v1.0//EN
CALSCALE:GREGORIAN
METHOD:PUBLISH
X-ORIGINAL-URL:https://revistacongresos.com
X-WR-CALDESC:Eventos para Noticias y análisis del sector congresos
REFRESH-INTERVAL;VALUE=DURATION:PT1H
X-Robots-Tag:noindex
X-PUBLISHED-TTL:PT1H
BEGIN:VTIMEZONE
TZID:Europe/Helsinki
BEGIN:DAYLIGHT
TZOFFSETFROM:+0200
TZOFFSETTO:+0300
TZNAME:EEST
DTSTART:20250330T010000
END:DAYLIGHT
BEGIN:STANDARD
TZOFFSETFROM:+0300
TZOFFSETTO:+0200
TZNAME:EET
DTSTART:20251026T010000
END:STANDARD
BEGIN:DAYLIGHT
TZOFFSETFROM:+0200
TZOFFSETTO:+0300
TZNAME:EEST
DTSTART:20260329T010000
END:DAYLIGHT
BEGIN:STANDARD
TZOFFSETFROM:+0300
TZOFFSETTO:+0200
TZNAME:EET
DTSTART:20261025T010000
END:STANDARD
BEGIN:DAYLIGHT
TZOFFSETFROM:+0200
TZOFFSETTO:+0300
TZNAME:EEST
DTSTART:20270328T010000
END:DAYLIGHT
BEGIN:STANDARD
TZOFFSETFROM:+0300
TZOFFSETTO:+0200
TZNAME:EET
DTSTART:20271031T010000
END:STANDARD
END:VTIMEZONE
BEGIN:VEVENT
DTSTART;VALUE=DATE:20260415
DTEND;VALUE=DATE:20260418
DTSTAMP:20260422T003800
CREATED:20251222T153244Z
LAST-MODIFIED:20260417T154602Z
UID:25969380-1776211200-1776470399@revistacongresos.com
SUMMARY:5º Congreso Interdisciplinar en Genética Humana
DESCRIPTION:
URL:https://revistacongresos.com/event/v-congreso-interdisciplinar-en-genetica-humana/
LOCATION:Palacio de Congresos de Granada (España)
CATEGORIES:Presencial,Trienal
END:VEVENT
END:VCALENDAR