BEGIN:VCALENDAR
VERSION:2.0
PRODID:-//Noticias y análisis del sector congresos - ECPv6.15.20//NONSGML v1.0//EN
CALSCALE:GREGORIAN
METHOD:PUBLISH
X-WR-CALNAME:Noticias y análisis del sector congresos
X-ORIGINAL-URL:https://revistacongresos.com
X-WR-CALDESC:Eventos para Noticias y análisis del sector congresos
REFRESH-INTERVAL;VALUE=DURATION:PT1H
X-Robots-Tag:noindex
X-PUBLISHED-TTL:PT1H
BEGIN:VTIMEZONE
TZID:Europe/Helsinki
BEGIN:DAYLIGHT
TZOFFSETFROM:+0200
TZOFFSETTO:+0300
TZNAME:EEST
DTSTART:20250330T010000
END:DAYLIGHT
BEGIN:STANDARD
TZOFFSETFROM:+0300
TZOFFSETTO:+0200
TZNAME:EET
DTSTART:20251026T010000
END:STANDARD
BEGIN:DAYLIGHT
TZOFFSETFROM:+0200
TZOFFSETTO:+0300
TZNAME:EEST
DTSTART:20260329T010000
END:DAYLIGHT
BEGIN:STANDARD
TZOFFSETFROM:+0300
TZOFFSETTO:+0200
TZNAME:EET
DTSTART:20261025T010000
END:STANDARD
BEGIN:DAYLIGHT
TZOFFSETFROM:+0200
TZOFFSETTO:+0300
TZNAME:EEST
DTSTART:20270328T010000
END:DAYLIGHT
BEGIN:STANDARD
TZOFFSETFROM:+0300
TZOFFSETTO:+0200
TZNAME:EET
DTSTART:20271031T010000
END:STANDARD
END:VTIMEZONE
BEGIN:VEVENT
DTSTART;VALUE=DATE:20260413
DTEND;VALUE=DATE:20260417
DTSTAMP:20260421T171531
CREATED:20260420T102429Z
LAST-MODIFIED:20260420T102429Z
UID:25972393-1776038400-1776383999@revistacongresos.com
SUMMARY:27º Congreso Nacional de Investigación Enológica (GIENOL 2026)
DESCRIPTION:
URL:https://revistacongresos.com/event/27o-congreso-nacional-de-investigacion-enologica-gienol-2026/
LOCATION:Córdoba (España)
CATEGORIES:Bienal,Presencial
END:VEVENT
BEGIN:VEVENT
DTSTART;VALUE=DATE:20260414
DTEND;VALUE=DATE:20260418
DTSTAMP:20260421T171531
CREATED:20251217T130700Z
LAST-MODIFIED:20260416T180149Z
UID:25969075-1776124800-1776470399@revistacongresos.com
SUMMARY:19º Congreso de Psicología de la Actividad Física y del Deporte
DESCRIPTION:
URL:https://revistacongresos.com/event/xix-congreso-de-psicologia-de-la-actividad-fisica-y-del-deporte/
LOCATION:Castellón de la Plana (España)
CATEGORIES:Bienal,Presencial
END:VEVENT
END:VCALENDAR