BEGIN:VCALENDAR
VERSION:2.0
PRODID:-//Noticias y análisis del sector congresos - ECPv6.15.20//NONSGML v1.0//EN
CALSCALE:GREGORIAN
METHOD:PUBLISH
X-WR-CALNAME:Noticias y análisis del sector congresos
X-ORIGINAL-URL:https://revistacongresos.com
X-WR-CALDESC:Eventos para Noticias y análisis del sector congresos
REFRESH-INTERVAL;VALUE=DURATION:PT1H
X-Robots-Tag:noindex
X-PUBLISHED-TTL:PT1H
BEGIN:VTIMEZONE
TZID:Europe/Paris
BEGIN:DAYLIGHT
TZOFFSETFROM:+0100
TZOFFSETTO:+0200
TZNAME:CEST
DTSTART:20240331T010000
END:DAYLIGHT
BEGIN:STANDARD
TZOFFSETFROM:+0200
TZOFFSETTO:+0100
TZNAME:CET
DTSTART:20241027T010000
END:STANDARD
BEGIN:DAYLIGHT
TZOFFSETFROM:+0100
TZOFFSETTO:+0200
TZNAME:CEST
DTSTART:20250330T010000
END:DAYLIGHT
BEGIN:STANDARD
TZOFFSETFROM:+0200
TZOFFSETTO:+0100
TZNAME:CET
DTSTART:20251026T010000
END:STANDARD
BEGIN:DAYLIGHT
TZOFFSETFROM:+0100
TZOFFSETTO:+0200
TZNAME:CEST
DTSTART:20260329T010000
END:DAYLIGHT
BEGIN:STANDARD
TZOFFSETFROM:+0200
TZOFFSETTO:+0100
TZNAME:CET
DTSTART:20261025T010000
END:STANDARD
END:VTIMEZONE
BEGIN:VEVENT
DTSTART;VALUE=DATE:20250522
DTEND;VALUE=DATE:20250525
DTSTAMP:20260424T111122
CREATED:20250326T150231Z
LAST-MODIFIED:20250326T150231Z
UID:25966746-1747872000-1748131199@revistacongresos.com
SUMMARY:XX Congreso Nacional de la Asociación Española de Audiología
DESCRIPTION:
URL:https://revistacongresos.com/event/xx-congreso-nacional-de-la-asociacion-espanola-de-audiologia/
LOCATION:Auditorio de la Diputación de Alicante
CATEGORIES:Bienal,Presencial
END:VEVENT
BEGIN:VEVENT
DTSTART;VALUE=DATE:20250523
DTEND;VALUE=DATE:20250525
DTSTAMP:20260424T111122
CREATED:20250326T150703Z
LAST-MODIFIED:20250326T150703Z
UID:25966769-1747958400-1748131199@revistacongresos.com
SUMMARY:Congreso Galaico Astur de Cardiología 2025
DESCRIPTION:
URL:https://revistacongresos.com/event/congreso-galaico-astur-de-cardiologia-2025/
LOCATION:Auditorio Municipal Hernán Naval\, Ribadeo (Lugo)
CATEGORIES:Bienal,Presencial
END:VEVENT
END:VCALENDAR