BEGIN:VCALENDAR
VERSION:2.0
PRODID:-//Noticias y análisis del sector congresos - ECPv6.15.20//NONSGML v1.0//EN
CALSCALE:GREGORIAN
METHOD:PUBLISH
X-ORIGINAL-URL:https://revistacongresos.com
X-WR-CALDESC:Eventos para Noticias y análisis del sector congresos
REFRESH-INTERVAL;VALUE=DURATION:PT1H
X-Robots-Tag:noindex
X-PUBLISHED-TTL:PT1H
BEGIN:VTIMEZONE
TZID:Europe/Helsinki
BEGIN:DAYLIGHT
TZOFFSETFROM:+0200
TZOFFSETTO:+0300
TZNAME:EEST
DTSTART:20250330T010000
END:DAYLIGHT
BEGIN:STANDARD
TZOFFSETFROM:+0300
TZOFFSETTO:+0200
TZNAME:EET
DTSTART:20251026T010000
END:STANDARD
BEGIN:DAYLIGHT
TZOFFSETFROM:+0200
TZOFFSETTO:+0300
TZNAME:EEST
DTSTART:20260329T010000
END:DAYLIGHT
BEGIN:STANDARD
TZOFFSETFROM:+0300
TZOFFSETTO:+0200
TZNAME:EET
DTSTART:20261025T010000
END:STANDARD
BEGIN:DAYLIGHT
TZOFFSETFROM:+0200
TZOFFSETTO:+0300
TZNAME:EEST
DTSTART:20270328T010000
END:DAYLIGHT
BEGIN:STANDARD
TZOFFSETFROM:+0300
TZOFFSETTO:+0200
TZNAME:EET
DTSTART:20271031T010000
END:STANDARD
END:VTIMEZONE
BEGIN:VEVENT
DTSTART;VALUE=DATE:20260212
DTEND;VALUE=DATE:20260215
DTSTAMP:20260423T210341
CREATED:20260304T144818Z
LAST-MODIFIED:20260304T144818Z
UID:25971013-1770854400-1771113599@revistacongresos.com
SUMMARY:III Congreso Internacional de Medicina y Enfermería del Trabajo (CIMET) y XIV Congreso Español de Medicina y Enfermería del Trabajo (CEMET)
DESCRIPTION:
URL:https://revistacongresos.com/event/iii-congreso-internacional-de-medicina-y-enfermeria-del-trabajo-cimet-y-xiv-congreso-espanol-de-medicina-y-enfermeria-del-trabajo-cemet/
LOCATION:Palacio de Congresos de Burgos\, Spain
CATEGORIES:Bienal,Presencial
END:VEVENT
BEGIN:VEVENT
DTSTART;VALUE=DATE:20260218
DTEND;VALUE=DATE:20260221
DTSTAMP:20260423T210341
CREATED:20260304T144930Z
LAST-MODIFIED:20260304T144930Z
UID:25971017-1771372800-1771631999@revistacongresos.com
SUMMARY:9º Congreso Internacional de Innovación Educativa en Edificación (CINIE 2026)
DESCRIPTION:
URL:https://revistacongresos.com/event/9o-congreso-internacional-de-innovacion-educativa-en-edificacion-cinie-2026/
LOCATION:Escuela Técnica Superior de Edificación de la Universidad Politécnica de Madrid\, Spain
CATEGORIES:Bienal,Presencial
END:VEVENT
BEGIN:VEVENT
DTSTART;VALUE=DATE:20260219
DTEND;VALUE=DATE:20260221
DTSTAMP:20260423T210341
CREATED:20260304T145047Z
LAST-MODIFIED:20260304T145047Z
UID:25971021-1771459200-1771631999@revistacongresos.com
SUMMARY:X Congreso de Derecho Concursal y Societario
DESCRIPTION:
URL:https://revistacongresos.com/event/x-congreso-de-derecho-concursal-y-societario/
LOCATION:Palacio de Congresos de Cádiz
CATEGORIES:Bienal,Presencial
END:VEVENT
BEGIN:VEVENT
DTSTART;VALUE=DATE:20260226
DTEND;VALUE=DATE:20260228
DTSTAMP:20260423T210341
CREATED:20260112T170855Z
LAST-MODIFIED:20260113T170959Z
UID:25969929-1772064000-1772236799@revistacongresos.com
SUMMARY:XV Congreso Nacional de la Sociedad Española de Fijación Externa y Cirugía Reconstructiva (SEFEX-CR)
DESCRIPTION:
URL:https://revistacongresos.com/event/xv-congreso-nacional-de-la-sociedad-espanola-de-fijacion-externa-y-cirugia-reconstructiva-sefex-cr/
LOCATION:Hospital Universitario Central de Asturias (HUCA)\, Spain
CATEGORIES:Bienal,Presencial
END:VEVENT
BEGIN:VEVENT
DTSTART;VALUE=DATE:20260227
DTEND;VALUE=DATE:20260301
DTSTAMP:20260423T210341
CREATED:20260304T145858Z
LAST-MODIFIED:20260304T145858Z
UID:25971048-1772150400-1772323199@revistacongresos.com
SUMMARY:XXVIII Congreso Nacional de la Sociedad Española de Medicina de la Adolescencia (SEMA)
DESCRIPTION:
URL:https://revistacongresos.com/event/xxviii-congreso-nacional-de-la-sociedad-espanola-de-medicina-de-la-adolescencia-sema/
LOCATION:El Batel Auditorio y Palacio de Congresos Cartagena\, Spain
CATEGORIES:Bienal,Presencial
END:VEVENT
END:VCALENDAR