BEGIN:VCALENDAR
VERSION:2.0
PRODID:-//Noticias y análisis del sector congresos - ECPv6.15.20//NONSGML v1.0//EN
CALSCALE:GREGORIAN
METHOD:PUBLISH
X-ORIGINAL-URL:https://revistacongresos.com
X-WR-CALDESC:Eventos para Noticias y análisis del sector congresos
REFRESH-INTERVAL;VALUE=DURATION:PT1H
X-Robots-Tag:noindex
X-PUBLISHED-TTL:PT1H
BEGIN:VTIMEZONE
TZID:Europe/Paris
BEGIN:DAYLIGHT
TZOFFSETFROM:+0100
TZOFFSETTO:+0200
TZNAME:CEST
DTSTART:20240331T010000
END:DAYLIGHT
BEGIN:STANDARD
TZOFFSETFROM:+0200
TZOFFSETTO:+0100
TZNAME:CET
DTSTART:20241027T010000
END:STANDARD
BEGIN:DAYLIGHT
TZOFFSETFROM:+0100
TZOFFSETTO:+0200
TZNAME:CEST
DTSTART:20250330T010000
END:DAYLIGHT
BEGIN:STANDARD
TZOFFSETFROM:+0200
TZOFFSETTO:+0100
TZNAME:CET
DTSTART:20251026T010000
END:STANDARD
BEGIN:DAYLIGHT
TZOFFSETFROM:+0100
TZOFFSETTO:+0200
TZNAME:CEST
DTSTART:20260329T010000
END:DAYLIGHT
BEGIN:STANDARD
TZOFFSETFROM:+0200
TZOFFSETTO:+0100
TZNAME:CET
DTSTART:20261025T010000
END:STANDARD
END:VTIMEZONE
BEGIN:VEVENT
DTSTART;TZID=Europe/Paris:20250602T080000
DTEND;TZID=Europe/Paris:20250604T170000
DTSTAMP:20260424T081618
CREATED:20250326T152829Z
LAST-MODIFIED:20250326T152829Z
UID:25966839-1748851200-1749056400@revistacongresos.com
SUMMARY:16º Congreso Europeo ITS 2025
DESCRIPTION:
URL:https://revistacongresos.com/event/16o-congreso-europeo-its-2025/
LOCATION:FIBES I y II – Palacio de Congresos y Exposiciones de Sevilla
CATEGORIES:Bienal,Presencial
END:VEVENT
BEGIN:VEVENT
DTSTART;VALUE=DATE:20250611
DTEND;VALUE=DATE:20250614
DTSTAMP:20260424T081618
CREATED:20250326T154916Z
LAST-MODIFIED:20250326T154916Z
UID:25966902-1749600000-1749859199@revistacongresos.com
SUMMARY:XVI Congreso Internacional de Lingüística General 2025 - XVI CILG 2025
DESCRIPTION:
URL:https://revistacongresos.com/event/xvi-congreso-internacional-de-linguistica-general-2025-xvi-cilg-2025/
LOCATION:Universidad de Alicante
CATEGORIES:Bienal,Presencial
END:VEVENT
BEGIN:VEVENT
DTSTART;VALUE=DATE:20250612
DTEND;VALUE=DATE:20250615
DTSTAMP:20260424T081618
CREATED:20250326T155540Z
LAST-MODIFIED:20250414T171427Z
UID:25966920-1749686400-1749945599@revistacongresos.com
SUMMARY:XXIII Congreso Planas de Cirugía Plástica y Estética
DESCRIPTION:
URL:https://revistacongresos.com/event/xxiii-congreso-planas-de-cirugia-plastica-y-estetica/
LOCATION:Barcelona\, Spain
CATEGORIES:Bienal,Presencial
END:VEVENT
BEGIN:VEVENT
DTSTART;VALUE=DATE:20250624
DTEND;VALUE=DATE:20250627
DTSTAMP:20260424T081618
CREATED:20250327T141626Z
LAST-MODIFIED:20250327T141626Z
UID:25967120-1750723200-1750982399@revistacongresos.com
SUMMARY:XIV Congreso Internacional AEDyR
DESCRIPTION:
URL:https://revistacongresos.com/event/congreso-aedyr-agua-2024/
LOCATION:Auditorio Adán Martín\, Tenerife
CATEGORIES:Bienal,Presencial
END:VEVENT
BEGIN:VEVENT
DTSTART;VALUE=DATE:20250626
DTEND;VALUE=DATE:20250629
DTSTAMP:20260424T081618
CREATED:20250327T141950Z
LAST-MODIFIED:20250327T141950Z
UID:25967128-1750896000-1751155199@revistacongresos.com
SUMMARY:XXXIV Congreso Internacional de la AELFA-IF
DESCRIPTION:
URL:https://revistacongresos.com/event/congreso-aelfa-logopedia-2024/
LOCATION:Universidad Pontificia de Salamanca
CATEGORIES:Bienal,Presencial
END:VEVENT
BEGIN:VEVENT
DTSTART;VALUE=DATE:20250629
DTEND;VALUE=DATE:20250704
DTSTAMP:20260424T081618
CREATED:20250327T142514Z
LAST-MODIFIED:20250327T142514Z
UID:25967135-1751155200-1751587199@revistacongresos.com
SUMMARY:15ª Conferencia Europea sobre Agricultura de Precisión (ECPA)
DESCRIPTION:
URL:https://revistacongresos.com/event/conferencia-ecpa-agricultura-2025/
LOCATION:UPC Campus Nord\, Barcelona
CATEGORIES:Bienal,Presencial
END:VEVENT
END:VCALENDAR