BEGIN:VCALENDAR
VERSION:2.0
PRODID:-//Noticias y análisis del sector congresos - ECPv6.15.20//NONSGML v1.0//EN
CALSCALE:GREGORIAN
METHOD:PUBLISH
X-WR-CALNAME:Noticias y análisis del sector congresos
X-ORIGINAL-URL:https://revistacongresos.com
X-WR-CALDESC:Eventos para Noticias y análisis del sector congresos
REFRESH-INTERVAL;VALUE=DURATION:PT1H
X-Robots-Tag:noindex
X-PUBLISHED-TTL:PT1H
BEGIN:VTIMEZONE
TZID:Europe/Paris
BEGIN:DAYLIGHT
TZOFFSETFROM:+0100
TZOFFSETTO:+0200
TZNAME:CEST
DTSTART:20230326T010000
END:DAYLIGHT
BEGIN:STANDARD
TZOFFSETFROM:+0200
TZOFFSETTO:+0100
TZNAME:CET
DTSTART:20231029T010000
END:STANDARD
BEGIN:DAYLIGHT
TZOFFSETFROM:+0100
TZOFFSETTO:+0200
TZNAME:CEST
DTSTART:20240331T010000
END:DAYLIGHT
BEGIN:STANDARD
TZOFFSETFROM:+0200
TZOFFSETTO:+0100
TZNAME:CET
DTSTART:20241027T010000
END:STANDARD
BEGIN:DAYLIGHT
TZOFFSETFROM:+0100
TZOFFSETTO:+0200
TZNAME:CEST
DTSTART:20250330T010000
END:DAYLIGHT
BEGIN:STANDARD
TZOFFSETFROM:+0200
TZOFFSETTO:+0100
TZNAME:CET
DTSTART:20251026T010000
END:STANDARD
END:VTIMEZONE
BEGIN:VEVENT
DTSTART;TZID=Europe/Paris:20240605T080000
DTEND;TZID=Europe/Paris:20240607T170000
DTSTAMP:20260425T021417
CREATED:20250325T131007Z
LAST-MODIFIED:20250325T131427Z
UID:25966169-1717574400-1717779600@revistacongresos.com
SUMMARY:XXXVII Congreso AEAS
DESCRIPTION:
URL:https://revistacongresos.com/event/congreso-aeas-gestion-agua-2024/
LOCATION:Auditori i Palau de Congressos de Castelló\, Castellón
CATEGORIES:Bienal,Presencial
END:VEVENT
BEGIN:VEVENT
DTSTART;VALUE=DATE:20240610
DTEND;VALUE=DATE:20240615
DTSTAMP:20260425T021417
CREATED:20250325T133449Z
LAST-MODIFIED:20250325T133449Z
UID:25966197-1717977600-1718409599@revistacongresos.com
SUMMARY:Conferencia INDRUM 2024 (International Network for Didactic Research in University Mathematics)
DESCRIPTION:
URL:https://revistacongresos.com/event/conferencia-indrum-didactica-matematicas-2024/
LOCATION:Centre de Recerca Matemàtica\, Barcelona
CATEGORIES:Bienal,Presencial
END:VEVENT
BEGIN:VEVENT
DTSTART;VALUE=DATE:20240612
DTEND;VALUE=DATE:20240615
DTSTAMP:20260425T021417
CREATED:20250325T142314Z
LAST-MODIFIED:20250325T142314Z
UID:25966205-1718150400-1718409599@revistacongresos.com
SUMMARY:VII Congreso Internacional de Calidad y Sostenibilidad Turística
DESCRIPTION:
URL:https://revistacongresos.com/event/congreso-calidad-sostenibilidad-turistica-2024/
LOCATION:Real Escuela Andaluza del Arte Ecuestre\, Jerez de la Frontera (Cádiz)
CATEGORIES:Bienal,Presencial
END:VEVENT
BEGIN:VEVENT
DTSTART;VALUE=DATE:20240612
DTEND;VALUE=DATE:20240615
DTSTAMP:20260425T021417
CREATED:20250325T142549Z
LAST-MODIFIED:20250325T142549Z
UID:25966209-1718150400-1718409599@revistacongresos.com
SUMMARY:XIV Congreso Nacional y XII Ibérico de Maduración y Postcosecha
DESCRIPTION:
URL:https://revistacongresos.com/event/congreso-maduracion-postcosecha-2024/
LOCATION:Espacio Maldonado\, Madrid
CATEGORIES:Bienal,Presencial
END:VEVENT
BEGIN:VEVENT
DTSTART;VALUE=DATE:20240612
DTEND;VALUE=DATE:20240615
DTSTAMP:20260425T021417
CREATED:20250325T142914Z
LAST-MODIFIED:20250325T142914Z
UID:25966213-1718150400-1718409599@revistacongresos.com
SUMMARY:VI Congreso Internacional de Turismo Gran Canaria SSTD 2024 - Innovación y Sostenibilidad Turística
DESCRIPTION:
URL:https://revistacongresos.com/event/congreso-internacional-turismo-gran-canaria-2024/
LOCATION:Centro de convenciones ExpoMeloneras\, Maspalomas (Las Palmas)
CATEGORIES:Bienal,Presencial
END:VEVENT
BEGIN:VEVENT
DTSTART;VALUE=DATE:20240612
DTEND;VALUE=DATE:20240616
DTSTAMP:20260425T021417
CREATED:20250325T144231Z
LAST-MODIFIED:20250325T144231Z
UID:25966221-1718150400-1718495999@revistacongresos.com
SUMMARY:13º Congreso Internacional de la Asociación Iberoamericana de Psicología Jurídica
DESCRIPTION:
URL:https://revistacongresos.com/event/congreso-psicologia-juridica-iberoamericano-2024/
LOCATION:Universidad de Valencia\, Valencia
CATEGORIES:Bienal,Presencial
END:VEVENT
BEGIN:VEVENT
DTSTART;VALUE=DATE:20240613
DTEND;VALUE=DATE:20240616
DTSTAMP:20260425T021417
CREATED:20250325T144937Z
LAST-MODIFIED:20250325T144937Z
UID:25966236-1718236800-1718495999@revistacongresos.com
SUMMARY:18º Congreso de Psicología de la Actividad Física y del Deporte
DESCRIPTION:
URL:https://revistacongresos.com/event/congreso-psicologia-deporte-2024/
LOCATION:Institut Nacional d’Educació Física de Catalunya – Centre de Barcelona
CATEGORIES:Bienal,Presencial
END:VEVENT
BEGIN:VEVENT
DTSTART;VALUE=DATE:20240617
DTEND;VALUE=DATE:20240622
DTSTAMP:20260425T021417
CREATED:20250325T150322Z
LAST-MODIFIED:20250325T150322Z
UID:25966268-1718582400-1719014399@revistacongresos.com
SUMMARY:14º International Conference on the Scientific and Clinical Applications of Magnetic Carriers
DESCRIPTION:
URL:https://revistacongresos.com/event/conference-magnetic-carriers-2024/
LOCATION:Universidad Autonoma de Barcelona (UAB)
CATEGORIES:Bienal,Presencial
END:VEVENT
BEGIN:VEVENT
DTSTART;VALUE=DATE:20240618
DTEND;VALUE=DATE:20240622
DTSTAMP:20260425T021417
CREATED:20250325T150502Z
LAST-MODIFIED:20250325T150502Z
UID:25966272-1718668800-1719014399@revistacongresos.com
SUMMARY:X Iberian Congress of Ichthyology
DESCRIPTION:
URL:https://revistacongresos.com/event/iberian-congress-ichthyology-2024/
LOCATION:Campus Vic. Universitat de Vic – Universitat Central de Catalunya\, Vic (Barcelona)
CATEGORIES:Bienal,Presencial
END:VEVENT
BEGIN:VEVENT
DTSTART;VALUE=DATE:20240619
DTEND;VALUE=DATE:20240622
DTSTAMP:20260425T021417
CREATED:20250325T150824Z
LAST-MODIFIED:20250325T150824Z
UID:25966280-1718755200-1719014399@revistacongresos.com
SUMMARY:VII Congreso Internacional de Lingüística Clínica (CILC2024)
DESCRIPTION:
URL:https://revistacongresos.com/event/congreso-linguistica-clinica-2024/
LOCATION:Universidad de Salamanca\, Salamanca
CATEGORIES:Bienal,Presencial
END:VEVENT
BEGIN:VEVENT
DTSTART;VALUE=DATE:20240623
DTEND;VALUE=DATE:20240628
DTSTAMP:20260425T021417
CREATED:20250325T151310Z
LAST-MODIFIED:20250325T151310Z
UID:25966294-1719100800-1719532799@revistacongresos.com
SUMMARY:38º International ISBT Congress
DESCRIPTION:
URL:https://revistacongresos.com/event/congreso-isbt-medicina-transfusional-2024/
LOCATION:CCIB – Centre de Convencions Internacional de Barcelona
CATEGORIES:Bienal,Presencial
END:VEVENT
BEGIN:VEVENT
DTSTART;VALUE=DATE:20240626
DTEND;VALUE=DATE:20240629
DTSTAMP:20260425T021417
CREATED:20250325T152044Z
LAST-MODIFIED:20250325T152044Z
UID:25966310-1719360000-1719619199@revistacongresos.com
SUMMARY:XI Reunión de la Sociedad Española de Espectometría de Masas
DESCRIPTION:
URL:https://revistacongresos.com/event/reunion-seem-espectrometria-masas-2024/
LOCATION:Universitat de Barcelona\, Spain
CATEGORIES:Bienal,Presencial
END:VEVENT
BEGIN:VEVENT
DTSTART;VALUE=DATE:20240626
DTEND;VALUE=DATE:20240630
DTSTAMP:20260425T021417
CREATED:20250325T152221Z
LAST-MODIFIED:20250325T152221Z
UID:25966314-1719360000-1719705599@revistacongresos.com
SUMMARY:XV Congreso Español de Sociología
DESCRIPTION:
URL:https://revistacongresos.com/event/congreso-sociologia-espana-2024/
LOCATION:Universidad Pablo de Olavide\, Sevilla
CATEGORIES:Bienal,Presencial
END:VEVENT
BEGIN:VEVENT
DTSTART;VALUE=DATE:20240627
DTEND;VALUE=DATE:20240629
DTSTAMP:20260425T021417
CREATED:20250326T135808Z
LAST-MODIFIED:20250326T135808Z
UID:25966487-1719446400-1719619199@revistacongresos.com
SUMMARY:CIProDI - Congreso Internacional de Protesis Dental de Ibiza
DESCRIPTION:
URL:https://revistacongresos.com/event/congreso-protesis-dental-ibiza-2024/
LOCATION:Palacio de Congresos de Ibiza
CATEGORIES:Bienal,Presencial
END:VEVENT
END:VCALENDAR