BEGIN:VCALENDAR
VERSION:2.0
PRODID:-//Noticias y análisis del sector congresos - ECPv6.15.20//NONSGML v1.0//EN
CALSCALE:GREGORIAN
METHOD:PUBLISH
X-ORIGINAL-URL:https://revistacongresos.com
X-WR-CALDESC:Eventos para Noticias y análisis del sector congresos
REFRESH-INTERVAL;VALUE=DURATION:PT1H
X-Robots-Tag:noindex
X-PUBLISHED-TTL:PT1H
BEGIN:VTIMEZONE
TZID:Europe/Paris
BEGIN:DAYLIGHT
TZOFFSETFROM:+0100
TZOFFSETTO:+0200
TZNAME:CEST
DTSTART:20230326T010000
END:DAYLIGHT
BEGIN:STANDARD
TZOFFSETFROM:+0200
TZOFFSETTO:+0100
TZNAME:CET
DTSTART:20231029T010000
END:STANDARD
BEGIN:DAYLIGHT
TZOFFSETFROM:+0100
TZOFFSETTO:+0200
TZNAME:CEST
DTSTART:20240331T010000
END:DAYLIGHT
BEGIN:STANDARD
TZOFFSETFROM:+0200
TZOFFSETTO:+0100
TZNAME:CET
DTSTART:20241027T010000
END:STANDARD
BEGIN:DAYLIGHT
TZOFFSETFROM:+0100
TZOFFSETTO:+0200
TZNAME:CEST
DTSTART:20250330T010000
END:DAYLIGHT
BEGIN:STANDARD
TZOFFSETFROM:+0200
TZOFFSETTO:+0100
TZNAME:CET
DTSTART:20251026T010000
END:STANDARD
END:VTIMEZONE
BEGIN:VEVENT
DTSTART;VALUE=DATE:20240903
DTEND;VALUE=DATE:20240907
DTSTAMP:20260420T120943
CREATED:20250326T101228Z
LAST-MODIFIED:20250326T101228Z
UID:25966340-1725321600-1725667199@revistacongresos.com
SUMMARY:46º Congreso de la Sociedad Española de Bioquímica y Biología Molecular
DESCRIPTION:
URL:https://revistacongresos.com/event/congreso-sebbm-bioquimica-2024/
LOCATION:PALEXCO\, A Coruña
CATEGORIES:Anual,Presencial
END:VEVENT
BEGIN:VEVENT
DTSTART;VALUE=DATE:20240906
DTEND;VALUE=DATE:20240911
DTSTAMP:20260420T120943
CREATED:20250326T132102Z
LAST-MODIFIED:20250326T132102Z
UID:25966373-1725580800-1726012799@revistacongresos.com
SUMMARY:42º Congreso Anual Europeo de Cataratas Refractive Surgeions - ESCRS 2024
DESCRIPTION:
URL:https://revistacongresos.com/event/congreso-esccrs-cirugia-ocular-2024/
LOCATION:Fira de Barcelona
CATEGORIES:Anual,Presencial
END:VEVENT
BEGIN:VEVENT
DTSTART;VALUE=DATE:20240909
DTEND;VALUE=DATE:20240914
DTSTAMP:20260420T120943
CREATED:20250326T132426Z
LAST-MODIFIED:20250326T132426Z
UID:25966381-1725840000-1726271999@revistacongresos.com
SUMMARY:60º Congreso EASD 2024
DESCRIPTION:
URL:https://revistacongresos.com/event/congreso-easd-diabetes-2024/
LOCATION:IFEMA\, Madrid
CATEGORIES:Anual,Presencial
END:VEVENT
BEGIN:VEVENT
DTSTART;VALUE=DATE:20240910
DTEND;VALUE=DATE:20240914
DTSTAMP:20260420T120943
CREATED:20250326T132608Z
LAST-MODIFIED:20250326T132608Z
UID:25966388-1725926400-1726271999@revistacongresos.com
SUMMARY:XLII Reunión Anual de la Sociedad Española de Epidemiología y XIX Congreso de Associação Portuguesa de Epidemiologia
DESCRIPTION:
URL:https://revistacongresos.com/event/reunion-epidemiologia-iberica-2024/
LOCATION:Universidad de Cádiz\, Cádiz
CATEGORIES:Anual,Presencial
END:VEVENT
BEGIN:VEVENT
DTSTART;VALUE=DATE:20240911
DTEND;VALUE=DATE:20240914
DTSTAMP:20260420T120943
CREATED:20250326T132741Z
LAST-MODIFIED:20250326T132741Z
UID:25966395-1726012800-1726271999@revistacongresos.com
SUMMARY:XXXV Congreso Internacional de Marketing
DESCRIPTION:
URL:https://revistacongresos.com/event/congreso-marketing-digital-2024/
LOCATION:Universidad de Castilla-La Mancha\, Cuenca
CATEGORIES:Anual,Presencial
END:VEVENT
BEGIN:VEVENT
DTSTART;VALUE=DATE:20240913
DTEND;VALUE=DATE:20240920
DTSTAMP:20260420T120943
CREATED:20250326T132916Z
LAST-MODIFIED:20250326T132916Z
UID:25966400-1726185600-1726790399@revistacongresos.com
SUMMARY:ESMO Congress 2024
DESCRIPTION:
URL:https://revistacongresos.com/event/congreso-esmo-oncologia-2024/
LOCATION:Fira de Barcelona
CATEGORIES:Anual,Híbrido
END:VEVENT
BEGIN:VEVENT
DTSTART;VALUE=DATE:20240918
DTEND;VALUE=DATE:20240921
DTSTAMP:20260420T120943
CREATED:20250326T133044Z
LAST-MODIFIED:20250326T133044Z
UID:25966407-1726617600-1726876799@revistacongresos.com
SUMMARY:24ª Congreso-Foro AdENyD
DESCRIPTION:
URL:https://revistacongresos.com/event/congreso-adenyd-enfermeria-derecho-2024/
LOCATION:Museo Elder de la Ciencia y Tecnología\, Las Palmas de Gran Canaria
CATEGORIES:Anual,Presencial
END:VEVENT
BEGIN:VEVENT
DTSTART;VALUE=DATE:20240919
DTEND;VALUE=DATE:20240923
DTSTAMP:20260420T120943
CREATED:20250326T133251Z
LAST-MODIFIED:20250326T133251Z
UID:25966416-1726704000-1727049599@revistacongresos.com
SUMMARY:24º Congreso Euretina y Cirugía Refrectiva
DESCRIPTION:
URL:https://revistacongresos.com/event/congreso-euretina-retina-2024/
LOCATION:Centro de Convenciones Internacionales de Barcelona (CCIB)\, Spain
CATEGORIES:Anual,Presencial
END:VEVENT
BEGIN:VEVENT
DTSTART;VALUE=DATE:20240924
DTEND;VALUE=DATE:20240928
DTSTAMP:20260420T120943
CREATED:20250326T133421Z
LAST-MODIFIED:20250326T133421Z
UID:25966424-1727136000-1727481599@revistacongresos.com
SUMMARY:27º Sleep Europe Congress - Congreso ESRS
DESCRIPTION:
URL:https://revistacongresos.com/event/congreso-esrs-medicina-sueno-2024/
LOCATION:Fibes II – Palacio de Congresos y Exposiciones de Sevilla
CATEGORIES:Bienal,Presencial
END:VEVENT
BEGIN:VEVENT
DTSTART;VALUE=DATE:20240925
DTEND;VALUE=DATE:20240928
DTSTAMP:20260420T120943
CREATED:20250326T133557Z
LAST-MODIFIED:20250326T133557Z
UID:25966431-1727222400-1727481599@revistacongresos.com
SUMMARY:XXXIV Congreso Internacional de la Sociedad Española de Psicología Comparada
DESCRIPTION:
URL:https://revistacongresos.com/event/congreso-psicologia-comparada-2024/
LOCATION:Universidad Internacional de Andalucía\, Baeza (Jaén)
CATEGORIES:Anual,Presencial
END:VEVENT
BEGIN:VEVENT
DTSTART;VALUE=DATE:20240925
DTEND;VALUE=DATE:20240928
DTSTAMP:20260420T120943
CREATED:20250326T133811Z
LAST-MODIFIED:20250326T133811Z
UID:25966440-1727222400-1727481599@revistacongresos.com
SUMMARY:IV Congreso Iberoamericano de Investigación en Sociedad\, Educación y Psicología
DESCRIPTION:
URL:https://revistacongresos.com/event/congreso-iberoamericano-educacion-psicologia-2024/
CATEGORIES:Anual,Online
END:VEVENT
BEGIN:VEVENT
DTSTART;VALUE=DATE:20240925
DTEND;VALUE=DATE:20240928
DTSTAMP:20260420T120943
CREATED:20250326T133943Z
LAST-MODIFIED:20250326T133943Z
UID:25966447-1727222400-1727481599@revistacongresos.com
SUMMARY:XIII Congreso Internacional AELCO
DESCRIPTION:
URL:https://revistacongresos.com/event/congreso-aelco-linguistica-2024/
LOCATION:Universidad de Granada\, Granada
CATEGORIES:Bienal,Presencial
END:VEVENT
BEGIN:VEVENT
DTSTART;VALUE=DATE:20240925
DTEND;VALUE=DATE:20240928
DTSTAMP:20260420T120943
CREATED:20250326T134120Z
LAST-MODIFIED:20250326T134120Z
UID:25966454-1727222400-1727481599@revistacongresos.com
SUMMARY:V Congreso Internacional de Innovación en Comunicación y Medios Audiovisuales (CINCOMA)
DESCRIPTION:
URL:https://revistacongresos.com/event/congreso-cincoma-comunicacion-audiovisual-2024/
LOCATION:Facultad de Ciencias Sociales – Edificio FES\, Universidad de Salamanca
CATEGORIES:Anual,Híbrido
END:VEVENT
BEGIN:VEVENT
DTSTART;VALUE=DATE:20240925
DTEND;VALUE=DATE:20240928
DTSTAMP:20260420T120943
CREATED:20250326T134251Z
LAST-MODIFIED:20250326T134251Z
UID:25966462-1727222400-1727481599@revistacongresos.com
SUMMARY:IX CIEPC - Congreso Internacional El Protocolo Contemporáneo
DESCRIPTION:
URL:https://revistacongresos.com/event/congreso-ciepc-protocolo-eventos-2024/
LOCATION:Edificio de Humanidades de la UNED (Madrid)
CATEGORIES:Anual,Híbrido
END:VEVENT
BEGIN:VEVENT
DTSTART;VALUE=DATE:20240926
DTEND;VALUE=DATE:20240928
DTSTAMP:20260420T120943
CREATED:20250326T134450Z
LAST-MODIFIED:20250326T134450Z
UID:25966470-1727308800-1727481599@revistacongresos.com
SUMMARY:30º Congreso Nacional de Transporte Urbano y Metropolitano
DESCRIPTION:
URL:https://revistacongresos.com/event/congreso-transporte-urbano-2024/
LOCATION:FYCMA – Palacio de Ferias y Congresos de Málaga
CATEGORIES:Anual,Presencial
END:VEVENT
BEGIN:VEVENT
DTSTART;VALUE=DATE:20240927
DTEND;VALUE=DATE:20240929
DTSTAMP:20260420T120943
CREATED:20250326T134617Z
LAST-MODIFIED:20250326T134617Z
UID:25966478-1727395200-1727567999@revistacongresos.com
SUMMARY:3º Congreso Internacional de Educación Crítica e Inclusiva
DESCRIPTION:
URL:https://revistacongresos.com/event/congreso-educacion-critica-inclusiva-2024/
LOCATION:Universidad Complutense de Madrid\, Madrid
CATEGORIES:Bienal,Presencial
END:VEVENT
END:VCALENDAR