BEGIN:VCALENDAR
VERSION:2.0
PRODID:-//Noticias y análisis del sector congresos - ECPv6.15.20//NONSGML v1.0//EN
CALSCALE:GREGORIAN
METHOD:PUBLISH
X-ORIGINAL-URL:https://revistacongresos.com
X-WR-CALDESC:Eventos para Noticias y análisis del sector congresos
REFRESH-INTERVAL;VALUE=DURATION:PT1H
X-Robots-Tag:noindex
X-PUBLISHED-TTL:PT1H
BEGIN:VTIMEZONE
TZID:Europe/Helsinki
BEGIN:DAYLIGHT
TZOFFSETFROM:+0200
TZOFFSETTO:+0300
TZNAME:EEST
DTSTART:20240331T010000
END:DAYLIGHT
BEGIN:STANDARD
TZOFFSETFROM:+0300
TZOFFSETTO:+0200
TZNAME:EET
DTSTART:20241027T010000
END:STANDARD
BEGIN:DAYLIGHT
TZOFFSETFROM:+0200
TZOFFSETTO:+0300
TZNAME:EEST
DTSTART:20250330T010000
END:DAYLIGHT
BEGIN:STANDARD
TZOFFSETFROM:+0300
TZOFFSETTO:+0200
TZNAME:EET
DTSTART:20251026T010000
END:STANDARD
BEGIN:DAYLIGHT
TZOFFSETFROM:+0200
TZOFFSETTO:+0300
TZNAME:EEST
DTSTART:20260329T010000
END:DAYLIGHT
BEGIN:STANDARD
TZOFFSETFROM:+0300
TZOFFSETTO:+0200
TZNAME:EET
DTSTART:20261025T010000
END:STANDARD
END:VTIMEZONE
BEGIN:VEVENT
DTSTART;VALUE=DATE:20251023
DTEND;VALUE=DATE:20251026
DTSTAMP:20260422T030939
CREATED:20251016T145513Z
LAST-MODIFIED:20251016T145513Z
UID:25968546-1761177600-1761436799@revistacongresos.com
SUMMARY:SEC25 - 46º Congreso de la Salud Cardiovascular
DESCRIPTION:
URL:https://revistacongresos.com/event/sec25-46o-congreso-de-la-salud-cardiovascular/
LOCATION:Palacio de Congresos de Granada\, Spain
CATEGORIES:Anual,Híbrido
END:VEVENT
END:VCALENDAR