BEGIN:VCALENDAR
VERSION:2.0
PRODID:-//Noticias y análisis del sector congresos - ECPv6.15.20//NONSGML v1.0//EN
CALSCALE:GREGORIAN
METHOD:PUBLISH
X-ORIGINAL-URL:https://revistacongresos.com
X-WR-CALDESC:Eventos para Noticias y análisis del sector congresos
REFRESH-INTERVAL;VALUE=DURATION:PT1H
X-Robots-Tag:noindex
X-PUBLISHED-TTL:PT1H
BEGIN:VTIMEZONE
TZID:Europe/Paris
BEGIN:DAYLIGHT
TZOFFSETFROM:+0100
TZOFFSETTO:+0200
TZNAME:CEST
DTSTART:20240331T010000
END:DAYLIGHT
BEGIN:STANDARD
TZOFFSETFROM:+0200
TZOFFSETTO:+0100
TZNAME:CET
DTSTART:20241027T010000
END:STANDARD
BEGIN:DAYLIGHT
TZOFFSETFROM:+0100
TZOFFSETTO:+0200
TZNAME:CEST
DTSTART:20250330T010000
END:DAYLIGHT
BEGIN:STANDARD
TZOFFSETFROM:+0200
TZOFFSETTO:+0100
TZNAME:CET
DTSTART:20251026T010000
END:STANDARD
BEGIN:DAYLIGHT
TZOFFSETFROM:+0100
TZOFFSETTO:+0200
TZNAME:CEST
DTSTART:20260329T010000
END:DAYLIGHT
BEGIN:STANDARD
TZOFFSETFROM:+0200
TZOFFSETTO:+0100
TZNAME:CET
DTSTART:20261025T010000
END:STANDARD
END:VTIMEZONE
BEGIN:VEVENT
DTSTART;VALUE=DATE:20250326
DTEND;VALUE=DATE:20250329
DTSTAMP:20260422T123808
CREATED:20250326T134230Z
LAST-MODIFIED:20250326T134230Z
UID:25966458-1742947200-1743206399@revistacongresos.com
SUMMARY:XXXI Congreso Nacional SEEUE (presencial) y III Congreso Nacional SEEUE (streaming)
DESCRIPTION:
URL:https://revistacongresos.com/event/xxxi-congreso-nacional-seeue-presencial-y-iii-congreso-nacional-seeue-streaming/
LOCATION:Toledo
CATEGORIES:Anual,Híbrido
END:VEVENT
BEGIN:VEVENT
DTSTART;VALUE=DATE:20250328
DTEND;VALUE=DATE:20250330
DTSTAMP:20260422T123808
CREATED:20250326T135050Z
LAST-MODIFIED:20250326T135050Z
UID:25966494-1743120000-1743292799@revistacongresos.com
SUMMARY:XXVII Reunión Clínica Internacional de Dermatología de Barcelona
DESCRIPTION:
URL:https://revistacongresos.com/event/xxvii-reunion-clinica-internacional-de-dermatologia-de-barcelona/
LOCATION:Hotel Barceló Sants\, Barcelona
CATEGORIES:Bienal,Híbrido
END:VEVENT
END:VCALENDAR