BEGIN:VCALENDAR
VERSION:2.0
PRODID:-//Noticias y análisis del sector congresos - ECPv6.15.20//NONSGML v1.0//EN
CALSCALE:GREGORIAN
METHOD:PUBLISH
X-ORIGINAL-URL:https://revistacongresos.com
X-WR-CALDESC:Eventos para Noticias y análisis del sector congresos
REFRESH-INTERVAL;VALUE=DURATION:PT1H
X-Robots-Tag:noindex
X-PUBLISHED-TTL:PT1H
BEGIN:VTIMEZONE
TZID:Europe/Helsinki
BEGIN:DAYLIGHT
TZOFFSETFROM:+0200
TZOFFSETTO:+0300
TZNAME:EEST
DTSTART:20250330T010000
END:DAYLIGHT
BEGIN:STANDARD
TZOFFSETFROM:+0300
TZOFFSETTO:+0200
TZNAME:EET
DTSTART:20251026T010000
END:STANDARD
BEGIN:DAYLIGHT
TZOFFSETFROM:+0200
TZOFFSETTO:+0300
TZNAME:EEST
DTSTART:20260329T010000
END:DAYLIGHT
BEGIN:STANDARD
TZOFFSETFROM:+0300
TZOFFSETTO:+0200
TZNAME:EET
DTSTART:20261025T010000
END:STANDARD
BEGIN:DAYLIGHT
TZOFFSETFROM:+0200
TZOFFSETTO:+0300
TZNAME:EEST
DTSTART:20270328T010000
END:DAYLIGHT
BEGIN:STANDARD
TZOFFSETFROM:+0300
TZOFFSETTO:+0200
TZNAME:EET
DTSTART:20271031T010000
END:STANDARD
END:VTIMEZONE
BEGIN:VEVENT
DTSTART;VALUE=DATE:20260902
DTEND;VALUE=DATE:20260905
DTSTAMP:20260423T123128
CREATED:20251224T073336Z
LAST-MODIFIED:20251224T073336Z
UID:25969577-1788307200-1788566399@revistacongresos.com
SUMMARY:XXVI edición del Congreso Internacional de Persona-Ordenador (INTERACCIÓN 2026)
DESCRIPTION:
URL:https://revistacongresos.com/event/xxvi-edicion-del-congreso-internacional-de-persona-ordenador-interaccion-2026/
LOCATION:Campus de Albacete de la Universidad de Castilla-La Mancha (UCLM)
CATEGORIES:Anual,Híbrido
END:VEVENT
BEGIN:VEVENT
DTSTART;VALUE=DATE:20260910
DTEND;VALUE=DATE:20260912
DTSTAMP:20260423T123128
CREATED:20251224T072815Z
LAST-MODIFIED:20251224T072815Z
UID:25969563-1788998400-1789171199@revistacongresos.com
SUMMARY:XVI Congreso Internacional de Salud\, Bienestar y Sociedad
DESCRIPTION:
URL:https://revistacongresos.com/event/xvi-congreso-internacional-de-salud-bienestar-y-sociedad/
LOCATION:Universidad de Guadalajara\, México
CATEGORIES:Anual,Híbrido
END:VEVENT
BEGIN:VEVENT
DTSTART;VALUE=DATE:20260924
DTEND;VALUE=DATE:20260928
DTSTAMP:20260423T123128
CREATED:20260112T180033Z
LAST-MODIFIED:20260113T180123Z
UID:25970076-1790208000-1790553599@revistacongresos.com
SUMMARY:12th Congress of the European Academy of Paediatric Societies (EAPS)
DESCRIPTION:
URL:https://revistacongresos.com/event/12th-congress-of-the-european-academy-of-paediatric-societies-eaps/
LOCATION:Megaron Athens International Conference Centre
CATEGORIES:Anual,Híbrido
END:VEVENT
BEGIN:VEVENT
DTSTART;VALUE=DATE:20260925
DTEND;VALUE=DATE:20260928
DTSTAMP:20260423T123128
CREATED:20251224T065620Z
LAST-MODIFIED:20251224T065620Z
UID:25969536-1790294400-1790553599@revistacongresos.com
SUMMARY:VII Congreso Internacional de Innovación en Comunicación y Medios Audiovisuales (CINCOMA)
DESCRIPTION:
URL:https://revistacongresos.com/event/vii-congreso-internacional-de-innovacion-en-comunicacion-y-medios-audiovisuales-cincoma/
LOCATION:Facultad de Ciencias Sociales de la Universidad de Salamanca
CATEGORIES:Anual,Híbrido
END:VEVENT
END:VCALENDAR