BEGIN:VCALENDAR
VERSION:2.0
PRODID:-//Noticias y análisis del sector congresos - ECPv6.15.20//NONSGML v1.0//EN
CALSCALE:GREGORIAN
METHOD:PUBLISH
X-WR-CALNAME:Noticias y análisis del sector congresos
X-ORIGINAL-URL:https://revistacongresos.com
X-WR-CALDESC:Eventos para Noticias y análisis del sector congresos
REFRESH-INTERVAL;VALUE=DURATION:PT1H
X-Robots-Tag:noindex
X-PUBLISHED-TTL:PT1H
BEGIN:VTIMEZONE
TZID:Europe/Helsinki
BEGIN:DAYLIGHT
TZOFFSETFROM:+0200
TZOFFSETTO:+0300
TZNAME:EEST
DTSTART:20250330T010000
END:DAYLIGHT
BEGIN:STANDARD
TZOFFSETFROM:+0300
TZOFFSETTO:+0200
TZNAME:EET
DTSTART:20251026T010000
END:STANDARD
BEGIN:DAYLIGHT
TZOFFSETFROM:+0200
TZOFFSETTO:+0300
TZNAME:EEST
DTSTART:20260329T010000
END:DAYLIGHT
BEGIN:STANDARD
TZOFFSETFROM:+0300
TZOFFSETTO:+0200
TZNAME:EET
DTSTART:20261025T010000
END:STANDARD
BEGIN:DAYLIGHT
TZOFFSETFROM:+0200
TZOFFSETTO:+0300
TZNAME:EEST
DTSTART:20270328T010000
END:DAYLIGHT
BEGIN:STANDARD
TZOFFSETFROM:+0300
TZOFFSETTO:+0200
TZNAME:EET
DTSTART:20271031T010000
END:STANDARD
END:VTIMEZONE
BEGIN:VTIMEZONE
TZID:Europe/Paris
BEGIN:DAYLIGHT
TZOFFSETFROM:+0100
TZOFFSETTO:+0200
TZNAME:CEST
DTSTART:20250330T010000
END:DAYLIGHT
BEGIN:STANDARD
TZOFFSETFROM:+0200
TZOFFSETTO:+0100
TZNAME:CET
DTSTART:20251026T010000
END:STANDARD
BEGIN:DAYLIGHT
TZOFFSETFROM:+0100
TZOFFSETTO:+0200
TZNAME:CEST
DTSTART:20260329T010000
END:DAYLIGHT
BEGIN:STANDARD
TZOFFSETFROM:+0200
TZOFFSETTO:+0100
TZNAME:CET
DTSTART:20261025T010000
END:STANDARD
BEGIN:DAYLIGHT
TZOFFSETFROM:+0100
TZOFFSETTO:+0200
TZNAME:CEST
DTSTART:20270328T010000
END:DAYLIGHT
BEGIN:STANDARD
TZOFFSETFROM:+0200
TZOFFSETTO:+0100
TZNAME:CET
DTSTART:20271031T010000
END:STANDARD
END:VTIMEZONE
BEGIN:VEVENT
DTSTART;VALUE=DATE:20260305
DTEND;VALUE=DATE:20260308
DTSTAMP:20260421T154052
CREATED:20251222T144530Z
LAST-MODIFIED:20251222T144530Z
UID:25969311-1772668800-1772927999@revistacongresos.com
SUMMARY:22º Congreso de actualización en pediatría de la Asociación Española de Pediatría de Atención Primaria (AEPAP)
DESCRIPTION:
URL:https://revistacongresos.com/event/22o-congreso-de-actualizacion-en-pediatria-de-la-asociacion-espanola-de-pediatria-de-atencion-primaria-aepap/
LOCATION:Novotel Madrid Center\, Spain
CATEGORIES:Anual,Híbrido
END:VEVENT
BEGIN:VEVENT
DTSTART;VALUE=DATE:20260310
DTEND;VALUE=DATE:20260311
DTSTAMP:20260421T154052
CREATED:20251217T124838Z
LAST-MODIFIED:20251217T124838Z
UID:25969056-1773100800-1773187199@revistacongresos.com
SUMMARY:Congreso Ibérico de Fincas Rústicas
DESCRIPTION:
URL:https://revistacongresos.com/event/congreso-iberico-de-fincas-rusticas/
LOCATION:Madrid
CATEGORIES:Anual,Híbrido
END:VEVENT
BEGIN:VEVENT
DTSTART;VALUE=DATE:20260311
DTEND;VALUE=DATE:20260315
DTSTAMP:20260421T154052
CREATED:20260304T153040Z
LAST-MODIFIED:20260304T153040Z
UID:25971096-1773187200-1773532799@revistacongresos.com
SUMMARY:19th International Conference on Advanced Technologies and Treatments for Diabetes
DESCRIPTION:
URL:https://revistacongresos.com/event/19th-international-conference-on-advanced-technologies-and-treatments-for-diabetes/
LOCATION:Barcelona International Convention Center (CCIB)\, Spain
CATEGORIES:Anual,Híbrido
END:VEVENT
BEGIN:VEVENT
DTSTART;VALUE=DATE:20260320
DTEND;VALUE=DATE:20260322
DTSTAMP:20260421T154052
CREATED:20260304T154027Z
LAST-MODIFIED:20260304T154027Z
UID:25971124-1773964800-1774137599@revistacongresos.com
SUMMARY:29º Congreso anual de la Sociedad Española de Retina y Vítreo
DESCRIPTION:
URL:https://revistacongresos.com/event/29o-congreso-anual-de-la-sociedad-espanola-de-retina-y-vitreo/
LOCATION:Madrid Marriott Auditorium Hotel\, Spain
CATEGORIES:Anual,Híbrido
END:VEVENT
BEGIN:VEVENT
DTSTART;VALUE=DATE:20260323
DTEND;VALUE=DATE:20260326
DTSTAMP:20260421T154052
CREATED:20251222T150423Z
LAST-MODIFIED:20251222T150423Z
UID:25969335-1774224000-1774483199@revistacongresos.com
SUMMARY:Congreso internacional Redefining Early Stage Investments (RESI)
DESCRIPTION:
URL:https://revistacongresos.com/event/congreso-internacional-redefining-early-stage-investments-resi/
LOCATION:Lisboa\, Portugal
CATEGORIES:Anual,Híbrido
END:VEVENT
BEGIN:VEVENT
DTSTART;VALUE=DATE:20260326
DTEND;VALUE=DATE:20260328
DTSTAMP:20260421T154052
CREATED:20260411T065308Z
LAST-MODIFIED:20260411T065308Z
UID:25972174-1774483200-1774655999@revistacongresos.com
SUMMARY:2º Congreso de Derecho Penal: Reflexiones sobre el Proceso y la Justicia Penal
DESCRIPTION:
URL:https://revistacongresos.com/event/2o-congreso-de-derecho-penal-reflexiones-sobre-el-proceso-y-la-justicia-penal/
LOCATION:Barcelona (España)
CATEGORIES:Híbrido
END:VEVENT
BEGIN:VEVENT
DTSTART;VALUE=DATE:20260327
DTEND;VALUE=DATE:20260329
DTSTAMP:20260421T154052
CREATED:20251222T151459Z
LAST-MODIFIED:20251222T151459Z
UID:25969355-1774569600-1774742399@revistacongresos.com
SUMMARY:Congreso Internacional sobre Psicooncología y Resiliencia\, organizado por la Asociación Española de Psicología Sanitaria (AEPSIS)
DESCRIPTION:
URL:https://revistacongresos.com/event/congreso-internacional-sobre-psicooncologia-y-resiliencia-organizado-por-la-asociacion-espanola-de-psicologia-sanitaria-aepsis/
LOCATION:Valencia
CATEGORIES:Híbrido
END:VEVENT
END:VCALENDAR