BEGIN:VCALENDAR
VERSION:2.0
PRODID:-//Noticias y análisis del sector congresos - ECPv6.15.20//NONSGML v1.0//EN
CALSCALE:GREGORIAN
METHOD:PUBLISH
X-ORIGINAL-URL:https://revistacongresos.com
X-WR-CALDESC:Eventos para Noticias y análisis del sector congresos
REFRESH-INTERVAL;VALUE=DURATION:PT1H
X-Robots-Tag:noindex
X-PUBLISHED-TTL:PT1H
BEGIN:VTIMEZONE
TZID:Europe/Helsinki
BEGIN:DAYLIGHT
TZOFFSETFROM:+0200
TZOFFSETTO:+0300
TZNAME:EEST
DTSTART:20250330T010000
END:DAYLIGHT
BEGIN:STANDARD
TZOFFSETFROM:+0300
TZOFFSETTO:+0200
TZNAME:EET
DTSTART:20251026T010000
END:STANDARD
BEGIN:DAYLIGHT
TZOFFSETFROM:+0200
TZOFFSETTO:+0300
TZNAME:EEST
DTSTART:20260329T010000
END:DAYLIGHT
BEGIN:STANDARD
TZOFFSETFROM:+0300
TZOFFSETTO:+0200
TZNAME:EET
DTSTART:20261025T010000
END:STANDARD
BEGIN:DAYLIGHT
TZOFFSETFROM:+0200
TZOFFSETTO:+0300
TZNAME:EEST
DTSTART:20270328T010000
END:DAYLIGHT
BEGIN:STANDARD
TZOFFSETFROM:+0300
TZOFFSETTO:+0200
TZNAME:EET
DTSTART:20271031T010000
END:STANDARD
END:VTIMEZONE
BEGIN:VEVENT
DTSTART;VALUE=DATE:20260211
DTEND;VALUE=DATE:20260214
DTSTAMP:20260421T170915
CREATED:20251222T142529Z
LAST-MODIFIED:20251222T142529Z
UID:25969279-1770768000-1771027199@revistacongresos.com
SUMMARY:XIV Congreso de Investigación Biomédica (CIB 2026)
DESCRIPTION:
URL:https://revistacongresos.com/event/xiv-congreso-de-investigacion-biomedica-cib-2026/
LOCATION:Valencia
CATEGORIES:Anual,Híbrido
END:VEVENT
BEGIN:VEVENT
DTSTART;VALUE=DATE:20260216
DTEND;VALUE=DATE:20260217
DTSTAMP:20260421T170915
CREATED:20251230T203848Z
LAST-MODIFIED:20251230T203848Z
UID:25969733-1771200000-1771286399@revistacongresos.com
SUMMARY:VI Congreso Asociación Despertando Enfermería (ADN): Género\, Cuidados e Innovación
DESCRIPTION:
URL:https://revistacongresos.com/event/vi-congreso-asociacion-despertando-enfermeria-adn-genero-cuidados-e-innovacion/
LOCATION:Facultad de Enfermería y Fisioterapia – Salón de actos (Salamanca)
CATEGORIES:Anual,Híbrido
END:VEVENT
BEGIN:VEVENT
DTSTART;VALUE=DATE:20260220
DTEND;VALUE=DATE:20260222
DTSTAMP:20260421T170915
CREATED:20251217T124247Z
LAST-MODIFIED:20251217T124247Z
UID:25969037-1771545600-1771718399@revistacongresos.com
SUMMARY:XV Congreso de Oftalmología Veterinaria de la Sociedad Española de Oftalmología Veterinaria (SEOVET)
DESCRIPTION:
URL:https://revistacongresos.com/event/xv-congreso-de-oftalmologia-veterinaria-de-la-sociedad-espanola-de-oftalmologia-veterinaria-seovet/
LOCATION:Palacio de Congresos de Gijón
CATEGORIES:Anual,Híbrido
END:VEVENT
BEGIN:VEVENT
DTSTART;VALUE=DATE:20260221
DTEND;VALUE=DATE:20260222
DTSTAMP:20260421T170915
CREATED:20251222T143614Z
LAST-MODIFIED:20251222T143614Z
UID:25969298-1771632000-1771718399@revistacongresos.com
SUMMARY:XXV Reunión de la Sociedad Andaluza de Cirugía Plástica\, Reparadora y Estética (SACPRE)
DESCRIPTION:
URL:https://revistacongresos.com/event/xxv-reunion-de-la-sociedad-andaluza-de-cirugia-plastica-reparadora-y-estetica-sacpre/
LOCATION:Hotel NH Luz Huelva\, Spain
CATEGORIES:Anual,Híbrido
END:VEVENT
BEGIN:VEVENT
DTSTART;VALUE=DATE:20260227
DTEND;VALUE=DATE:20260228
DTSTAMP:20260421T170915
CREATED:20251222T144310Z
LAST-MODIFIED:20251222T144310Z
UID:25969306-1772150400-1772236799@revistacongresos.com
SUMMARY:15º Reunión de Unidades de Mama y Coordinadores de Unidad
DESCRIPTION:
URL:https://revistacongresos.com/event/15o-reunion-de-unidades-de-mama-y-coordinadores-de-unidad/
LOCATION:CAIXAFORUM\, Madrid
CATEGORIES:Anual,Híbrido
END:VEVENT
END:VCALENDAR