BEGIN:VCALENDAR
VERSION:2.0
PRODID:-//Noticias y análisis del sector congresos - ECPv6.15.20//NONSGML v1.0//EN
CALSCALE:GREGORIAN
METHOD:PUBLISH
X-ORIGINAL-URL:https://revistacongresos.com
X-WR-CALDESC:Eventos para Noticias y análisis del sector congresos
REFRESH-INTERVAL;VALUE=DURATION:PT1H
X-Robots-Tag:noindex
X-PUBLISHED-TTL:PT1H
BEGIN:VTIMEZONE
TZID:Europe/Paris
BEGIN:DAYLIGHT
TZOFFSETFROM:+0100
TZOFFSETTO:+0200
TZNAME:CEST
DTSTART:20240331T010000
END:DAYLIGHT
BEGIN:STANDARD
TZOFFSETFROM:+0200
TZOFFSETTO:+0100
TZNAME:CET
DTSTART:20241027T010000
END:STANDARD
BEGIN:DAYLIGHT
TZOFFSETFROM:+0100
TZOFFSETTO:+0200
TZNAME:CEST
DTSTART:20250330T010000
END:DAYLIGHT
BEGIN:STANDARD
TZOFFSETFROM:+0200
TZOFFSETTO:+0100
TZNAME:CET
DTSTART:20251026T010000
END:STANDARD
BEGIN:DAYLIGHT
TZOFFSETFROM:+0100
TZOFFSETTO:+0200
TZNAME:CEST
DTSTART:20260329T010000
END:DAYLIGHT
BEGIN:STANDARD
TZOFFSETFROM:+0200
TZOFFSETTO:+0100
TZNAME:CET
DTSTART:20261025T010000
END:STANDARD
END:VTIMEZONE
BEGIN:VTIMEZONE
TZID:Europe/Helsinki
BEGIN:DAYLIGHT
TZOFFSETFROM:+0200
TZOFFSETTO:+0300
TZNAME:EEST
DTSTART:20240331T010000
END:DAYLIGHT
BEGIN:STANDARD
TZOFFSETFROM:+0300
TZOFFSETTO:+0200
TZNAME:EET
DTSTART:20241027T010000
END:STANDARD
BEGIN:DAYLIGHT
TZOFFSETFROM:+0200
TZOFFSETTO:+0300
TZNAME:EEST
DTSTART:20250330T010000
END:DAYLIGHT
BEGIN:STANDARD
TZOFFSETFROM:+0300
TZOFFSETTO:+0200
TZNAME:EET
DTSTART:20251026T010000
END:STANDARD
BEGIN:DAYLIGHT
TZOFFSETFROM:+0200
TZOFFSETTO:+0300
TZNAME:EEST
DTSTART:20260329T010000
END:DAYLIGHT
BEGIN:STANDARD
TZOFFSETFROM:+0300
TZOFFSETTO:+0200
TZNAME:EET
DTSTART:20261025T010000
END:STANDARD
END:VTIMEZONE
BEGIN:VEVENT
DTSTART;VALUE=DATE:20251003
DTEND;VALUE=DATE:20251006
DTSTAMP:20260421T234352
CREATED:20250327T155325Z
LAST-MODIFIED:20250327T155325Z
UID:25967193-1759449600-1759708799@revistacongresos.com
SUMMARY:XXXV Reunión del Grupo Español de Dermatología Estética y Terapéutica de la AEDV (GEDET)
DESCRIPTION:
URL:https://revistacongresos.com/event/reunion-gedet-dermatologia-2024/
LOCATION:Palacio de Congresos de Valencia\, Spain
CATEGORIES:Anual,Híbrido
END:VEVENT
BEGIN:VEVENT
DTSTART;VALUE=DATE:20251009
DTEND;VALUE=DATE:20251012
DTSTAMP:20260421T234352
CREATED:20250327T163958Z
LAST-MODIFIED:20250327T163958Z
UID:25967232-1759968000-1760227199@revistacongresos.com
SUMMARY:Hemato 2025 - LXVII Congreso Nacional de la Sociedad Española de Hematología y Hemoterapia y XLI Congreso de la Sociedad Española de Trombosis y Hemostasia
DESCRIPTION:
URL:https://revistacongresos.com/event/hemato-2025-hematologia-hemostasia/
LOCATION:Palacio de Exposiciones y Congresos Ciudad de Oviedo
CATEGORIES:Anual,Híbrido
END:VEVENT
BEGIN:VEVENT
DTSTART;VALUE=DATE:20251016
DTEND;VALUE=DATE:20251018
DTSTAMP:20260421T234352
CREATED:20250327T164807Z
LAST-MODIFIED:20250327T164807Z
UID:25967264-1760572800-1760745599@revistacongresos.com
SUMMARY:XXIV Congreso de la Sociedad Española de Diagnóstico por Imagen del Abdomen
DESCRIPTION:
URL:https://revistacongresos.com/event/congreso-sedia-imagen-abdominal-2024/
LOCATION:Palacio Euskalduna\, Bilbao
CATEGORIES:Anual,Híbrido
END:VEVENT
BEGIN:VEVENT
DTSTART;VALUE=DATE:20251023
DTEND;VALUE=DATE:20251026
DTSTAMP:20260421T234352
CREATED:20251016T145513Z
LAST-MODIFIED:20251016T145513Z
UID:25968546-1761177600-1761436799@revistacongresos.com
SUMMARY:SEC25 - 46º Congreso de la Salud Cardiovascular
DESCRIPTION:
URL:https://revistacongresos.com/event/sec25-46o-congreso-de-la-salud-cardiovascular/
LOCATION:Palacio de Congresos de Granada\, Spain
CATEGORIES:Anual,Híbrido
END:VEVENT
END:VCALENDAR